Workbook
Name MarqueList: Data!$A$2:$A$86

Sheet Feuil1
A1: 1) Choisissez la MARQUE (colonne A) - 2) choisissez le CODE ARTICLE (colonne B) - le libelle, le prix et le total se calculent automatiquement. Article hors tarif ? Laissez Marque/Code vides et saisissez directement le LIBELLE et le PRIX UNITAIRE : le total se calculera quand meme. Cellules jaunes = a completer.
A2: DATE | C2: Bon de Commande Parfums C.E
A3: NOM SOCIÉTÉ
A4: SERVICE | C4: SOINS & MAQUILLAGE
A5: NOM PRÉNOM | C5: Parfums-and-co.com
A6: N° DE TEL
B8: Champs obligatoires | E8: *Un seul bon par client
A9: MARQUE | B9: CODE ARTICLE | C9: LIBELLÉ ARTICLE | D9: PRIX UNITAIRE | E9: QUANTITÉ | F9: PRIX TOTAL
C10: =IFERROR(INDEX(Tarif!$B$2:$B$1821,MATCH($B10,Tarif!$A$2:$A$1821,0)),"") | D10: =IFERROR(INDEX(Tarif!$D$2:$D$1821,MATCH($B10,Tarif!$A$2:$A$1821,0)),"") | F10: =IF(OR($D10="",$E10=""),"",$D10*$E10)
C11: =IFERROR(INDEX(Tarif!$B$2:$B$1821,MATCH($B11,Tarif!$A$2:$A$1821,0)),"") | D11: =IFERROR(INDEX(Tarif!$D$2:$D$1821,MATCH($B11,Tarif!$A$2:$A$1821,0)),"") | F11: =IF(OR($D11="",$E11=""),"",$D11*$E11)
C12: =IFERROR(INDEX(Tarif!$B$2:$B$1821,MATCH($B12,Tarif!$A$2:$A$1821,0)),"") | D12: =IFERROR(INDEX(Tarif!$D$2:$D$1821,MATCH($B12,Tarif!$A$2:$A$1821,0)),"") | F12: =IF(OR($D12="",$E12=""),"",$D12*$E12)
C13: =IFERROR(INDEX(Tarif!$B$2:$B$1821,MATCH($B13,Tarif!$A$2:$A$1821,0)),"") | D13: =IFERROR(INDEX(Tarif!$D$2:$D$1821,MATCH($B13,Tarif!$A$2:$A$1821,0)),"") | F13: =IF(OR($D13="",$E13=""),"",$D13*$E13)
C14: =IFERROR(INDEX(Tarif!$B$2:$B$1821,MATCH($B14,Tarif!$A$2:$A$1821,0)),"") | D14: =IFERROR(INDEX(Tarif!$D$2:$D$1821,MATCH($B14,Tarif!$A$2:$A$1821,0)),"") | F14: =IF(OR($D14="",$E14=""),"",$D14*$E14)
C15: =IFERROR(INDEX(Tarif!$B$2:$B$1821,MATCH($B15,Tarif!$A$2:$A$1821,0)),"") | D15: =IFERROR(INDEX(Tarif!$D$2:$D$1821,MATCH($B15,Tarif!$A$2:$A$1821,0)),"") | F15: =IF(OR($D15="",$E15=""),"",$D15*$E15)
C16: =IFERROR(INDEX(Tarif!$B$2:$B$1821,MATCH($B16,Tarif!$A$2:$A$1821,0)),"") | D16: =IFERROR(INDEX(Tarif!$D$2:$D$1821,MATCH($B16,Tarif!$A$2:$A$1821,0)),"") | F16: =IF(OR($D16="",$E16=""),"",$D16*$E16)
C17: =IFERROR(INDEX(Tarif!$B$2:$B$1821,MATCH($B17,Tarif!$A$2:$A$1821,0)),"") | D17: =IFERROR(INDEX(Tarif!$D$2:$D$1821,MATCH($B17,Tarif!$A$2:$A$1821,0)),"") | F17: =IF(OR($D17="",$E17=""),"",$D17*$E17)
C18: =IFERROR(INDEX(Tarif!$B$2:$B$1821,MATCH($B18,Tarif!$A$2:$A$1821,0)),"") | D18: =IFERROR(INDEX(Tarif!$D$2:$D$1821,MATCH($B18,Tarif!$A$2:$A$1821,0)),"") | F18: =IF(OR($D18="",$E18=""),"",$D18*$E18)
C19: =IFERROR(INDEX(Tarif!$B$2:$B$1821,MATCH($B19,Tarif!$A$2:$A$1821,0)),"") | D19: =IFERROR(INDEX(Tarif!$D$2:$D$1821,MATCH($B19,Tarif!$A$2:$A$1821,0)),"") | F19: =IF(OR($D19="",$E19=""),"",$D19*$E19)
C20: =IFERROR(INDEX(Tarif!$B$2:$B$1821,MATCH($B20,Tarif!$A$2:$A$1821,0)),"") | D20: =IFERROR(INDEX(Tarif!$D$2:$D$1821,MATCH($B20,Tarif!$A$2:$A$1821,0)),"") | F20: =IF(OR($D20="",$E20=""),"",$D20*$E20)
C21: =IFERROR(INDEX(Tarif!$B$2:$B$1821,MATCH($B21,Tarif!$A$2:$A$1821,0)),"") | D21: =IFERROR(INDEX(Tarif!$D$2:$D$1821,MATCH($B21,Tarif!$A$2:$A$1821,0)),"") | F21: =IF(OR($D21="",$E21=""),"",$D21*$E21)
... C31: =IFERROR(INDEX(Tarif!$B$2:$B$1821,MATCH($B31,Tarif!$A$2:$A$1821,0)),"") | D31: =IFERROR(INDEX(Tarif!$D$2:$D$1821,MATCH($B31,Tarif!$A$2:$A$1821,0)),"") | F31: =IF(OR($D31="",$E31=""),"",$D31*$E31)
A32: Pour le règlement chèque à l'ordre du CSE ONERA MODANE | E32: Total : | F32: =SUM(F10:F31) -> 0

Sheet Tarif
A1: Code article | B1: Libelle article | C1: PV Ref EUR | D1: Prix CSE | E1: Marque
A2: 00K.46.020 | B2: HYDRA ECUME EAU MICELLAIRE200 ML | C2: 23 | D2: 16 | E2: ALGOLOGIE
A3: 00K.46.025 | B3: HYDRA ECUME LAIT DEMAQUILL.200 ML | C3: 23 | D3: 16 | E3: ALGOLOGIE
A4: 00K.50.020 | B4: HYDRA ECUME LOTION ALGAMARINE200 ML | C4: 23 | D4: 16 | E4: ALGOLOGIE
A5: 00K.52.040 | B5: CREME DES VAGUES POT 50 ML | C5: 34 | D5: 23 | E5: ALGOLOGIE
A6: 00K.55.086 | B6: NUIT DU RIVAGE CR LISSANTE50 ML | C6: 56 | D6: 39 | E6: ALGOLOGIE
A7: 00K.57.045 | B7: ELIXIR DES VAGUES BOOSTER 30 ML | C7: 45 | D7: 32 | E7: ALGOLOGIE
A8: 00K.57.08C | B8: CREME DU RIVAGE LIFTANTE 50 ML | C8: 56 | D8: 39 | E8: ALGOLOGIE
A9: 00K.29.005 | B9: BASE LISSANTE EFFET FLOUTEUR | C9: 26 | D9: 18 | E9: ALGOLOGIE
A10: 00K.53.010 | B10: BB CRM CORRECTRICE NATUREL | C10: 30 | D10: 21 | E10: ALGOLOGIE
A11: 00K.53.020 | B11: ELIXIR SOL.MARIN PERFECTEUR 30 ML | C11: 34 | D11: 24 | E11: ALGOLOGIE
A12: 00K.69.011 | B12: SM HUILE SOYEUSE SPF30 100 ML | C12: 26 | D12: 18 | E12: ALGOLOGIE
A13: 00K.69.012 | B13: SM GELEE BRONZ&GLW SPF50 100 ML | C13: 31 | D13: 22 | E13: ALGOLOGIE
... A1821: W02.94.191 | B1821: GUA SHA ROSE QUARTZ | C1821: 11 | D1821: 8 | E1821: PASSION BEAUTE

Sheet Data
A1: MARQUES | B1: ALGOLOGIE | C1: ARDEN | D1: ARMANI | E1: AZZARO | F1: BERDOUES | G1: BIODANCE | H1: BLANCREME | I1: BOSS | J1: BOUCHERON | K1: BURBERRYS | L1: CACHAREL | M1: CARO. HERRERA | N1: CARON | O1: CERRUTI | P1: CHANEL | Q1: CHLOE | R1: CLARINS | S1: CLINIQUE | T1: COCOSOLIS | U1: DIESEL | V1: DIOR | W1: DISNEY | X1: DIVERS ENF/PAR | Y1: DOLCE & GABANA | Z1: ERBORIAN | AA1: GAULTIER | AB1: GIORGIO | AC1: GIVENCHY | AD1: GRES | AE1: GUCCI | AF1: GUERLAIN | AG1: HERMES | AH1: HEROME | AI1: HOLLISTER | AJ1: HUYGENS | AK1: IKKS | AL1: INUWET | AM1: JACADI | AN1: KENZO | AO1: KLEIN | AP1: LACOSTE | AQ1: LANCOME | AR1: LANVIN | AS1: LAROCHE | AT1: LAUDER | AU1: LEMPICKA LOLIT | AV1: LES POULETTES | AW1: LUTENS | AX1: MANUCURIST | AY1: MARVEL | AZ1: MINIMALISTE | BA1: MIU MIU | BB1: MIYAKE | BC1: MOLINARD | BD1: MONTANA | BE1: MONTBLANC | BF1: MR BARBIER | BG1: MUGLER | BH1: NARCISIO RODR | BI1: PASSION BEAUTE | BJ1: PAYOT | BK1: PLANTES & PARF | BL1: PRADA MUCCI | BM1: PUPA | BN1: RABANNE | BO1: RALPH LAUREN | BP1: REMINISCENCE | BQ1: RICCI | BR1: RITUALS | BS1: ROCHAS | BT1: ROSEBAIE | BU1: SECRET DE LOLY | BV1: SISLEY | BW1: SOLINOTES | BX1: ST LAURENT | BY1: TARTINE ET CHO | BZ1: TENTATION | CA1: TOM FORD | CB1: TORRIDEN | CC1: UNGARO | CD1: VALENTINO | CE1: VAN CEEF | CF1: VICTOR & ROLF | CG1: WOMEN' SECRET | CH1: ZADIG&VOLTAIRE
A2: ALGOLOGIE | B2: 00K.46.020 | C2: 026.52.527 | D2: 030.13.233 | E2: 067.13.78A | F2: 096.11.050 | G2: 10J.58.001 | H2: 08M.57.072 | I2: 111.17.11C | J2: 114.13.229 | K2: 127.13.740 | L2: 129.16.035 | M2: 021.13.535 | N2: 156.18.993 | O2: 180.14.160 | P2: 184.13.503 | Q2: 201.13.02C | R2: 204.75.11P | S2: 211.51.114 | T2: 21K.54.055 | U2: 289.13.033 | V2: 293.13.590 | W2: 297.28.31L | X2: 997.00.061 | Y2: 302.13.443 | Z2: 30V.52.170 | AA2: 397.14.715 | AB2: 406.14.090 | AC2: 410.13.148 | AD2: 417.14.304 | AE2: 430.13.16L | AF2: 437.14.051 | AG2: 471.13.113 | AH2: 473.67.140 | AI2: 44S.13.270 | AJ2: 44V.57.005 | AK2: 497.81.260 | AL2: 47W.42.011 | AM2: 477.27.940 | AN2: 499.13.436 | AO2: 503.13.160 | AP2: 517.17.220 | AQ2: 533.13.087 | AR2: 540.13.360 | AS2: 547.14.181 | AT2: 560.13.735 | AU2: 57S.13.153 | AV2: 56L.57.005 | AW2: 590.23.950 | AX2: 5ME.44.401 | AY2: 5MT.28.104 | AZ2: 62J.94.141 | BA2: 62N.13.223 | BB2: 625.14.315 | BC2: 629.13.840 | BD2: 640.14.834 | BE2: 638.17.735 | BF2: 63B.81.003 | BG2: 657.13.252 | BH2: 790.13.12F | BI2: W02.94.02N | BJ2: 697.52.180 | BK2: 71U.72.116 | BL2: 730.13.443 | BM2: 729.40.091 | BN2: 738.13.933 | BO2: 564.16.03A | BP2: 748.23.605 | BQ2: 766.13.755 | BR2: 779.62.031 | BS2: 786.14.940 | BT2: 74L.82.010 | BU2: 83Z.82.025 | BV2: 862.16.910 | BW2: 87M.13.052 | BX2: 814.13.63A | BY2: 878.27.046 | BZ2: 882.71.8A1 | CA2: 88F.13.025 | CB2: 89S.46.012 | CC2: 899.13.72J | CD2: 903.13.334 | CE2: 910.14.660 | CF2: 92W.13.035 | CG2: 94M.64.132 | CH2: 972.13.005
A3: ARDEN | B3: 00K.46.025 | C3: 026.55.491 | D3: 030.13.235 | E3: 067.18.570 | F3: 096.11.40F | G3: 10J.58.002 | H3: 08M.57.074 | I3: 111.17.11G | J3: 114.14.318 | K3: 127.13.065 | L3: 129.13.153 | M3: 021.13.538 | N3: 156.18.995 | O3: 180.18.860 | P3: 184.13.505 | Q3: 201.13.02G | R3: 204.45.221 | S3: 211.57.10S | T3: 21K.61.012 | U3: 289.13.037 | V3: 293.14.554 | W3: 297.28.028 | X3: 997.00.062 | Y3: 302.14.44A | Z3: 30V.52.172 | AA3: 397.14.726 | AC3: 410.14.158 | AD3: 417.16.680 | AE3: 430.13.16M | AF3: 437.13.426 | AG3: 471.13.116 | AH3: 473.67.165 | AJ3: 44V.57.010 | AK3: 497.81.261 | AL3: 47W.42.012 | AM3: 477.27.A35 | AN3: 499.13.442 | AO3: 503.13.440 | AP3: 517.17.225 | AQ3: 533.13.450 | AR3: 540.13.240 | AS3: 547.18.260 | AT3: 560.13.738 | AU3: 57S.13.155 | AV3: 56L.58.005 | AW3: 590.23.465 | AX3: 5ME.44.405 | AZ3: 62J.46.110 | BA3: 62N.13.225 | BB3: 625.14.316 | BC3: 629.13.841 | BE3: 638.17.740 | BF3: 63B.81.005 | BG3: 657.13.255 | BH3: 790.13.135 | BI3: W02.94.02S | BJ3: 697.57.180 | BK3: 71U.72.117 | BL3: 730.13.445 | BM3: 729.40.092 | BN3: 738.13.935 | BO3: 564.18.049 | BP3: 748.23.610 | BQ3: 766.13.772 | BR3: 779.62.034 | BS3: 786.14.941 | BT3: 74L.90.010 | BU3: 83Z.82.026 | BV3: 862.16.951 | BW3: 87M.13.053 | BX3: 814.14.208 | BZ3: 882.71.8A2 | CA3: 88F.13.02A | CB3: 89S.47.015 | CC3: 899.18.540 | CD3: 903.13.043 | CF3: 92W.13.040 | CG3: 94M.64.134 | CH3: 972.13.033
A4: ARMANI | B4: 00K.50.020 | D4: 030.13.24P | E4: 067.18.575 | F4: 096.11.40G | G4: 10J.58.003 | H4: 08M.58.008 | I4: 111.17.140 | J4: 114.13.935 | K4: 127.13.069 | L4: 129.13.15A | M4: 021.13.585 | P4: 184.13.510 | Q4: 201.13.02L | R4: 204.53.805 | S4: 211.57.10U | T4: 21K.64.010 | U4: 289.13.435 | V4: 293.13.65A | W4: 297.28.B5G | X4: 997.00.063 | Y4: 302.13.035 | Z4: 30V.57.170 | AA4: 397.13.033 | AC4: 410.13.860 | AE4: 430.13.180 | AF4: 437.14.374 | AG4: 471.13.11A | AH4: 473.67.170 | AJ4: 44V.57.011 | AK4: 497.81.262 | AL4: 47W.42.013 | AM4: 477.27.E05 | AN4: 499.16.735 | AO4: 503.23.710 | AP4: 517.17.236 | AQ4: 533.13.460 | AR4: 540.18.660 | AT4: 560.13.619 | AU4: 57S.13.160 | AV4: 56L.58.006 | AW4: 590.23.555 | AX4: 5ME.44.40C | AZ4: 62J.46.112 | BA4: 62N.13.22A | BB4: 625.13.813 | BC4: 629.13.390 | BE4: 638.17.870 | BF4: 63B.81.010 | BG4: 657.13.262 | BH4: 790.13.140 | BI4: W02.94.171 | BJ4: 697.57.18A | BK4: 71U.72.118 | BL4: 730.13.449 | BM4: 729.40.093 | BN4: 738.13.938 | BP4: 748.23.650 | BQ4: 766.14.780 | BR4: 779.62.035 | BS4: 786.13.063 | BT4: 74L.90.020 | BU4: 83Z.90.025 | BV4: 862.23.903 | BW4: 87M.13.054 | BX4: 814.14.112 | BZ4: 882.71.8A4 | CA4: 88F.13.033 | CB4: 89S.51.020 | CD4: 903.13.045 | CF4: 92W.13.435 | CG4: 94M.64.138 | CH4: 972.13.035
A5: AZZARO | B5: 00K.52.040 | D5: 030.13.26J | E5: 067.18.580 | F5: 096.64.122 | G5: 10J.58.004 | H5: 08M.58.015 | I5: 111.17.145 | J5: 114.13.940 | K5: 127.13.913 | L5: 129.14.133 | M5: 021.13.588 | P5: 184.13.543 | Q5: 201.13.02R | R5: 204.53.807 | S5: 211.57.10X | T5: 21K.69.042 | U5: 289.18.43A | V5: 293.13.65B | W5: 297.28.G03 | X5: 997.00.064 | Y5: 302.13.037 | Z5: 30V.57.22D | AA5: 397.13.035 | AC5: 410.13.435 | AE5: 430.13.B10 | AF5: 437.16.75A | AG5: 471.13.11B | AH5: 473.67.175 | AJ5: 44V.57.305 | AK5: 497.81.263 | AL5: 47W.42.017 | AM5: 477.27.C35 | AN5: 499.16.775 | AO5: 503.23.720 | AP5: 517.17.240 | AQ5: 533.14.760 | AU5: 57S.13.035 | AV5: 56L.58.007 | AW5: 590.23.655 | AX5: 5ME.44.40K | AZ5: 62J.52.105 | BA5: 62N.13.233 | BB5: 625.13.815 | BE5: 638.17.886 | BF5: 63B.81.012 | BG5: 657.13.265 | BH5: 790.14.135 | BI5: W02.94.191 | BJ5: 697.52.380 | BK5: 71U.72.11A | BL5: 730.13.44F | BM5: 729.40.094 | BN5: 738.13.94A | BP5: 748.23.655 | BQ5: 766.14.790 | BR5: 779.63.025 | BS5: 786.13.065 | BT5: 74L.82.110 | BU5: 83Z.90.030 | BV5: 862.13.035 | BW5: 87M.13.059 | BX5: 814.13.932 | BZ5: 882.71.8A8 | CA5: 88F.14.035 | CB5: 89S.54.016 | CD5: 903.13.049 | CF5: 92W.13.440 | CG5: 94M.64.13A | CH5: 972.13.040
A6: BERDOUES | B6: 00K.55.086 | D6: 030.13.26K | E6: 067.18.651 | F6: 096.64.123 | G6: 10J.58.006 | H6: 08M.58.016 | I6: 111.18.84A | J6: 114.17.638 | K6: 127.13.915 | L6: 129.14.135 | P6: 184.13.555 | Q6: 201.13.02T | R6: 204.38.061 | S6: 211.57.36W | T6: 21K.64.015 | U6: 289.18.43G | V6: 293.13.65D | W6: 297.28.83B | X6: 997.00.065 | Y6: 302.13.03B | Z6: 30V.40.520 | AA6: 397.62.032 | AC6: 410.13.440 | AF6: 437.13.A46 | AG6: 471.13.123 | AH6: 473.67.180 | AJ6: 44V.57.310 | AK6: 497.81.264 | AL6: 47W.42.018 | AM6: 477.27.C85 | AN6: 499.16.783 | AO6: 503.23.420 | AP6: 517.17.540 | AQ6: 533.23.592 | AU6: 57S.13.040 | AV6: 56L.58.008 | AW6: 590.23.665 | AX6: 5ME.44.40L | AZ6: 62J.57.105 | BA6: 62N.13.235 | BB6: 625.13.820 | BE6: 638.17.88A | BF6: 63B.75.005 | BG6: 657.13.270 | BH6: 790.14.140 | BJ6: 697.52.382 | BK6: 71U.72.11D | BL6: 730.13.44G | BM6: 729.40.095 | BN6: 738.13.94B | BP6: 748.23.660 | BQ6: 766.13.643 | BR6: 779.67.017 | BS6: 786.13.069 | BT6: 74L.90.110 | BU6: 83Z.90.04H | BV6: 862.13.040 | BW6: 87M.13.066 | BX6: 814.13.979 | BZ6: 882.71.8A9 | CA6: 88F.14.040 | CB6: 89S.57.008 | CD6: 903.13.903 | CF6: 92W.18.235 | CG6: 94M.64.13B | CH6: 972.13.063
A7: BIODANCE | B7: 00K.57.045 | D7: 030.13.26L | E7: 067.17.J50 | F7: 096.64.124 | H7: 08M.58.017 | I7: 111.18.84C | J7: 114.18.638 | K7: 127.13.91A | L7: 129.14.140 | P7: 184.13.556 | Q7: 201.13.02V | R7: 204.38.065 | S7: 211.57.381 | T7: 21K.69.013 | U7: 289.18.550 | V7: 293.13.65L | X7: 997.00.066 | Y7: 302.13.03C | Z7: 30V.40.521 | AA7: 397.13.213 | AC7: 410.13.C35 | AF7: 437.14.A46 | AG7: 471.13.126 | AH7: 473.67.192 | AJ7: 44V.57.510 | AK7: 497.81.270 | AL7: 47W.42.028 | AM7: 477.27.D35 | AN7: 499.16.785 | AO7: 503.18.560 | AP7: 517.17.545 | AQ7: 533.23.594 | AU7: 57S.13.630 | AV7: 56L.58.009 | AW7: 590.23.B85 | AX7: 5ME.44.40M | AZ7: 62J.57.128 | BA7: 62N.13.23A | BB7: 625.18.145 | BE7: 638.17.283 | BF7: 63B.75.010 | BG7: 657.16.222 | BH7: 790.13.253 | BJ7: 697.53.380 | BK7: 71U.72.11F | BL7: 730.13.44J | BM7: 729.40.096 | BN7: 738.13.94C | BP7: 748.23.665 | BQ7: 766.13.645 | BR7: 779.71.015 | BS7: 786.13.075 | BT7: 74L.90.120 | BU7: 83Z.90.04F | BV7: 862.13.235 | BW7: 87M.13.067 | BX7: 814.14.985 | BZ7: 882.45.90C | CA7: 88F.13.070 | CB7: 89S.57.010 | CD7: 903.13.905 | CF7: 92W.18.239 | CG7: 94M.64.13C | CH7: 972.13.065
A8: BLANCREME | B8: 00K.57.08C | D8: 030.13.G35 | E8: 067.17.J51 | F8: 096.64.125 | H8: 08M.58.018 | I8: 111.78.837 | J8: 114.17.761 | K8: 127.13.935 | L8: 129.16.418 | P8: 184.13.560 | Q8: 201.13.033 | R8: 204.46.026 | S8: 211.57.678 | T8: 21K.69.015 | U8: 289.17.233 | V8: 293.13.65M | X8: 997.00.067 | Y8: 302.13.03D | Z8: 30V.52.155 | AA8: 397.13.215 | AC8: 410.13.C40 | AF8: 437.13.C46 | AG8: 471.13.12A | AH8: 473.67.245 | AK8: 497.81.271 | AL8: 47W.42.123 | AM8: 477.27.255 | AN8: 499.16.790 | AO8: 503.64.010 | AP8: 517.17.548 | AQ8: 533.23.597 | AU8: 57S.13.640 | AX8: 5ME.44.40N | AZ8: 62J.57.136 | BB8: 625.18.147 | BE8: 638.17.285 | BF8: 63B.75.015 | BG8: 657.16.242 | BH8: 790.13.255 | BJ8: 697.46.420 | BK8: 71U.72.11H | BL8: 730.13.453 | BM8: 729.37.351 | BN8: 738.13.94J | BP8: 748.23.720 | BQ8: 766.13.648 | BR8: 779.73.032 | BS8: 786.13.080 | BT8: 74L.82.720 | BU8: 83Z.92.020 | BV8: 862.23.A10 | BW8: 87M.13.06H | BX8: 814.14.990 | BZ8: 882.45.90N | CA8: 88F.17.425 | CB8: 89S.57.050 | CD8: 903.13.910 | CG8: 94M.64.13D | CH8: 972.13.06A
A9: BOSS | B9: 00K.29.005 | D9: 030.13.G40 | E9: 067.17.J55 | F9: 096.64.126 | H9: 08M.58.019 | I9: 111.17.415 | J9: 114.17.040 | K9: 127.13.940 | L9: 129.16.643 | P9: 184.13.570 | Q9: 201.13.035 | R9: 204.46.123 | S9: 211.74.310 | T9: 21K.69.021 | U9: 289.17.235 | V9: 293.13.65P | X9: 997.00.068 | Y9: 302.13.A33 | Z9: 30V.53.545 | AA9: 397.13.218 | AC9: 410.13.C73 | AF9: 437.13.42B | AG9: 471.13.133 | AH9: 473.67.415 | AK9: 497.81.272 | AL9: 47W.42.127 | AN9: 499.13.737 | AO9: 503.64.011 | AP9: 517.17.553 | AQ9: 533.64.520 | AU9: 57S.18.040 | AX9: 5ME.44.40P | BB9: 625.17.35T | BE9: 638.17.28A | BF9: 63B.79.010 | BG9: 657.16.25B | BH9: 790.13.260 | BJ9: 697.47.520 | BK9: 71U.94.02A | BL9: 730.13.455 | BM9: 729.38.96A | BN9: 738.13.94K | BP9: 748.23.905 | BQ9: 766.14.634 | BR9: 779.81.02D | BS9: 786.13.546 | BT9: 74L.90.720 | BU9: 83Z.92.021 | BV9: 862.23.A20 | BW9: 87M.13.06J | BX9: 814.13.44L | BZ9: 882.81.A2H | CA9: 88F.17.430 | CB9: 89S.57.080 | CD9: 903.13.930 | CG9: 94M.64.13F | CH9: 972.13.330
A10: BOUCHERON | B10: 00K.53.010 | D10: 030.13.15A | E10: 067.17.J60 | H10: 08M.62.120 | I10: 111.17.420 | K10: 127.13.B4L | L10: 129.16.650 | P10: 184.14.54A | Q10: 201.13.037 | R10: 204.46.125 | S10: 211.38.90A | T10: 21K.69.022 | U10: 289.17.23A | V10: 293.13.703 | X10: 997.00.069 | Y10: 302.13.A35 | Z10: 30V.53.54E | AA10: 397.13.21B | AC10: 410.13.C75 | AF10: 437.13.42C | AG10: 471.13.136 | AH10: 473.67.432 | AK10: 497.27.036 | AL10: 47W.44.014 | AN10: 499.13.535 | AO10: 503.64.012 | AP10: 517.17.555 | AQ10: 533.64.521 | AX10: 5ME.44.40Q | BB10: 625.17.35V | BE10: 638.17.535 | BF10: 63B.79.030 | BG10: 657.16.266 | BH10: 790.13.439 | BJ10: 697.53.202 | BK10: 71U.94.02B | BL10: 730.13.459 | BM10: 729.38.96V | BN10: 738.13.94L | BQ10: 766.14.635 | BR10: 779.81.02F | BS10: 786.13.54A | BT10: 74L.90.730 | BU10: 83Z.93.020 | BV10: 862.23.A30 | BW10: 87M.13.06L | BX10: 814.13.44M | BZ10: 882.81.A2W | CA10: 88F.17.432 | CB10: 89S.47.112 | CD10: 903.13.A63 | CG10: 94M.64.180 | CH10: 972.13.335
A11: BURBERRYS | B11: 00K.53.020 | D11: 030.13.15D | E11: 067.17.J75 | H11: 08M.63.09D | I11: 111.17.435 | K11: 127.13.B4M | L11: 129.16.660 | P11: 184.14.54F | Q11: 201.74.010 | R11: 204.47.416 | S11: 211.12.760 | T11: 21K.94.010 | U11: 289.18.234 | V11: 293.13.705 | X11: 997.00.070 | Y11: 302.13.A40 | Z11: 30V.53.54J | AA11: 397.13.21C | AC11: 410.13.C78 | AF11: 437.13.433 | AG11: 471.13.140 | AH11: 473.67.449 | AK11: 497.27.135 | AL11: 47W.44.016 | AN11: 499.13.537 | AO11: 503.64.013 | AP11: 517.17.55A | AQ11: 533.64.522 | AX11: 5ME.44.40S | BB11: 625.18.340 | BE11: 638.17.540 | BF11: 63B.81.103 | BG11: 657.16.2H5 | BH11: 790.13.353 | BJ11: 697.57.51A | BK11: 71U.94.02D | BL11: 730.13.463 | BM11: 729.38.992 | BN11: 738.13.95A | BQ11: 766.14.638 | BR11: 779.81.02G | BS11: 786.13.556 | BT11: 74L.82.760 | BU11: 83Z.93.025 | BV11: 862.23.A50 | BW11: 87M.13.06M | BX11: 814.13.44N | BZ11: 882.81.A3L | CA11: 88F.17.445 | CB11: 89S.52.118 | CD11: 903.13.A65 | CG11: 94M.64.181 | CH11: 972.13.340
A12: CACHAREL | B12: 00K.69.011 | D12: 030.13.163 | E12: 067.17.J80 | I12: 111.17.440 | K12: 127.13.B55 | L12: 129.13.030 | P12: 184.14.551 | Q12: 201.13.867 | R12: 204.47.474 | S12: 211.12.650 | T12: 21K.94.011 | U12: 289.18.235 | V12: 293.13.70A | X12: 997.00.071 | Y12: 302.13.A83 | Z12: 30V.53.54K | AA12: 397.13.21D | AC12: 410.13.25A | AF12: 437.13.435 | AG12: 471.13.142 | AK12: 497.27.235 | AL12: 47W.44.017 | AN12: 499.17.656 | AO12: 503.64.014 | AP12: 517.18.53A | AQ12: 533.13.24S | AX12: 5ME.44.460 | BE12: 638.18.540 | BG12: 657.16.2J1 | BH12: 790.13.355 | BJ12: 697.57.51D | BK12: 71U.94.02G | BL12: 730.13.465 | BM12: 729.38.998 | BN12: 738.13.95B | BQ12: 766.13.253 | BR12: 779.94.045 | BS12: 786.13.559 | BT12: 74L.90.760 | BU12: 83Z.93.027 | BV12: 862.38.361 | BW12: 87M.13.06N | BX12: 814.13.463 | BZ12: 882.81.A5V | CA12: 88F.17.450 | CB12: 89S.57.115 | CD12: 903.13.96A | CH12: 972.13.353
A13: CARO. HERRERA | B13: 00K.69.012 | D13: 030.13.165 | E13: 067.17.J8R | I13: 111.17.44C | K13: 127.13.B60 | L13: 129.13.530 | P13: 184.62.520 | Q13: 201.13.935 | R13: 204.50.136 | S13: 211.12.660 | U13: 289.18.242 | V13: 293.13.70B | X13: 997.00.072 | Y13: 302.13.A85 | Z13: 30V.53.54L | AA13: 397.13.223 | AC13: 410.13.25B | AF13: 437.13.440 | AG13: 471.13.633 | AK13: 497.28.23G | AL13: 47W.44.02A | AN13: 499.17.660 | AP13: 517.18.551 | AQ13: 533.13.24T | AX13: 5ME.44.472 | BE13: 638.18.640 | BG13: 657.16.2J3 | BH13: 790.13.35A | BJ13: 697.52.A55 | BK13: 71U.94.43N | BL13: 730.13.469 | BM13: 729.39.419 | BN13: 738.13.95C | BQ13: 766.13.255 | BR13: 779.94.060 | BS13: 786.23.950 | BU13: 83Z.93.032 | BV13: 862.38.371 | BW13: 87M.62.082 | BX13: 814.13.465 | BZ13: 882.81.A6M | CA13: 88F.17.140 | CB13: 89S.57.116 | CD13: 903.13.96B | CH13: 972.13.355
A14: CARON | B14: 00K.70.012 | D14: 030.13.170 | E14: 067.17.J8S | I14: 111.17.44D | K14: 127.13.B73 | L14: 129.13.535 | P14: 184.62.525 | Q14: 201.13.937 | R14: 204.50.138 | S14: 211.14.645 | U14: 289.18.062 | V14: 293.14.615 | X14: 997.00.073 | Y14: 302.13.A8A | Z14: 30V.53.54R | AA14: 397.13.225 | AC14: 410.13.25D | AF14: 437.62.422 | AG14: 471.13.635 | AK14: 497.28.12H | AL14: 47W.44.02B | AN14: 499.17.666 | AP14: 517.17.575 | AQ14: 533.13.24U | AX14: 5ME.44.506 | BG14: 657.62.226 | BH14: 790.13.385 | BJ14: 697.57.880 | BK14: 71U.94.43R | BL14: 730.17.34A | BM14: 729.41.0F1 | BN14: 738.74.920 | BQ14: 766.13.25A | BR14: 779.94.080 | BS14: 786.23.954 | BU14: 83Z.93.042 | BV14: 862.57.528 | BW14: 87M.62.083 | BX14: 814.13.469 | CA14: 88F.17.155 | CB14: 89S.57.153 | CD14: 903.17.065 | CH14: 972.13.359
A15: CERRUTI | D15: 030.13.17L | E15: 067.17.J95 | I15: 111.18.450 | K15: 127.13.B75 | L15: 129.13.537 | P15: 184.72.513 | Q15: 201.13.94F | R15: 204.59.299 | S15: 211.62.606 | U15: 289.18.370 | V15: 293.14.61A | X15: 997.00.074 | Y15: 302.13.A73 | Z15: 30V.53.54S | AA15: 397.13.228 | AC15: 410.13.25L | AF15: 437.13.866 | AG15: 471.13.638 | AL15: 47W.45.103 | AN15: 499.17.66A | AP15: 517.17.57A | AQ15: 533.13.26L | AX15: 5ME.44.510 | BG15: 657.13.530 | BH15: 790.13.555 | BJ15: 697.52.F6A | BK15: 71U.94.43V | BL15: 730.17.34B | BM15: 729.41.0F2 | BN15: 738.13.050 | BQ15: 766.13.273 | BR15: 779.81.40A | BS15: 786.23.965 | BU15: 83Z.93.089 | BV15: 862.58.410 | BW15: 87M.62.084 | BX15: 814.13.46B | CA15: 88F.23.33A | CB15: 89S.57.156 | CD15: 903.17.069 | CH15: 972.17.035
A16: CHANEL | D16: 030.13.1AM | E16: 067.17.J9A | I16: 111.18.460 | K16: 127.13.B80 | L16: 129.13.563 | P16: 184.74.520 | Q16: 201.13.94G | R16: 204.59.399 | S16: 211.74.607 | V16: 293.14.695 | X16: 997.00.075 | Y16: 302.13.A75 | Z16: 30V.53.54T | AA16: 397.13.22G | AC16: 410.13.25M | AF16: 437.13.73A | AG16: 471.13.678 | AL16: 47W.67.061 | AN16: 499.18.621 | AP16: 517.18.665 | AQ16: 533.13.26M | AX16: 5ME.44.525 | BG16: 657.13.536 | BH16: 790.13.560 | BJ16: 697.57.F5A | BK16: 71U.94.43Z | BL16: 730.17.34D | BM16: 729.41.0F3 | BN16: 738.13.639 | BQ16: 766.13.275 | BR16: 779.62.121 | BS16: 786.23.966 | BU16: 83Z.93.08A | BV16: 862.57.525 | BW16: 87M.62.085 | BX16: 814.13.47G | CA16: 88F.23.347 | CB16: 89S.57.163 | CD16: 903.17.105 | CH16: 972.17.03A
A17: CHLOE | D17: 030.13.1AU | E17: 067.18.J40 | I17: 111.18.480 | K17: 127.13.C30 | L17: 129.13.56J | P17: 184.13.635 | Q17: 201.13.94H | R17: 204.57.A05 | S17: 211.75.528 | V17: 293.14.69A | X17: 997.00.076 | Y17: 302.13.A7A | Z17: 30V.57.51A | AA17: 397.13.230 | AC17: 410.13.25N | AF17: 437.13.73B | AG17: 471.13.685 | AL17: 47W.67.062 | AN17: 499.18.630 | AP17: 517.13.54J | AQ17: 533.13.26P | AX17: 5ME.44.548 | BG17: 657.13.53C | BH17: 790.18.360 | BJ17: 697.52.B15 | BK17: 71U.94.440 | BL17: 730.17.353 | BM17: 729.41.0F4 | BN17: 738.16.760 | BQ17: 766.13.278 | BR17: 779.62.124 | BS17: 786.23.967 | BU17: 83Z.93.08D | BV17: 862.57.675 | BW17: 87M.62.086 | BX17: 814.13.47H | CA17: 88F.13.251 | CD17: 903.17.10A | CH17: 972.18.040
A18: CLARINS | D18: 030.18.380 | E18: 067.18.792 | I18: 111.78.405 | K18: 127.13.C35 | L18: 129.13.56L | P18: 184.13.640 | R18: 204.57.A10 | S18: 211.75.529 | V18: 293.62.685 | X18: 997.00.077 | Y18: 302.18.240 | Z18: 30V.57.51C | AA18: 397.13.235 | AC18: 410.13.26A | AF18: 437.13.73D | AG18: 471.14.075 | AL18: 47W.67.063 | AN18: 499.18.650 | AP18: 517.13.54P | AQ18: 533.13.27M | AX18: 5ME.44.549 | BG18: 657.13.53D | BJ18: 697.62.343 | BK18: 71U.94.443 | BL18: 730.17.355 | BN18: 738.13.113 | BQ18: 766.13.153 | BR18: 779.63.130 | BS18: 786.23.968 | BU18: 83Z.81.020 | BW18: 87M.62.087 | BX18: 814.13.48B | CA18: 88F.13.261 | CD18: 903.18.110
A19: CLINIQUE | D19: 030.17.79P | E19: 067.17.230 | I19: 111.78.415 | K19: 127.13.C3A | L19: 129.13.343 | P19: 184.13.735 | R19: 204.49.92A | V19: 293.73.665 | X19: 997.00.078 | Y19: 302.17.845 | Z19: 30V.57.51F | AA19: 397.13.240 | AC19: 410.13.273 | AF19: 437.13.746 | AG19: 471.14.080 | AL19: 47W.73.024 | AN19: 499.16.660 | AP19: 517.13.54T | AQ19: 533.13.27N | AX19: 5ME.44.569 | BG19: 657.13.53F | BK19: 71U.94.48P | BL19: 730.17.35A | BN19: 738.13.115 | BQ19: 766.13.15F | BR19: 779.67.117 | BS19: 786.62.950 | BU19: 83Z.81.025 | BW19: 87M.62.088 | BX19: 814.13.48C | CA19: 88F.23.29R | CD19: 903.17.235
A20: COCOSOLIS | D20: 030.17.79R | E20: 067.17.255 | I20: 111.17.130 | K20: 127.18.140 | L20: 129.13.345 | P20: 184.13.740 | R20: 204.52.79D | V20: 293.74.660 | X20: 997.00.080 | Y20: 302.17.84A | Z20: 30V.57.51H | AA20: 397.13.330 | AC20: 410.13.275 | AF20: 437.13.748 | AG20: 471.13.035 | AL20: 47W.73.025 | AN20: 499.18.867 | AP20: 517.13.674 | AQ20: 533.13.282 | AX20: 5ME.45.02D | BG20: 657.13.590 | BK20: 71U.94.66F | BN20: 738.13.118 | BR20: 779.71.115 | BS20: 786.73.935 | BU20: 83Z.81.030 | BW20: 87M.62.089 | BX20: 814.13.48D | CA20: 88F.23.29T | CD20: 903.17.240
A21: DIESEL | D21: 030.17.82F | E21: 067.18.243 | I21: 111.17.530 | K21: 127.17.F25 | L21: 129.13.353 | P21: 184.13.755 | R21: 204.52.79F | V21: 293.14.154 | X21: 997.00.081 | Y21: 302.18.82A | Z21: 30V.57.51P | AA21: 397.13.335 | AC21: 410.13.278 | AF21: 437.13.75H | AG21: 471.13.040 | AL21: 47W.73.032 | AN21: 499.13.13L | AP21: 517.13.676 | AQ21: 533.13.283 | AX21: 5ME.44.49A | BG21: 657.13.591 | BK21: 71U.94.66H | BN21: 738.13.11F | BR21: 779.64.105 | BS21: 786.18.860 | BU21: 83Z.81.034 | BW21: 87M.62.08A | BX21: 814.14.358 | CA21: 88F.23.305 | CD21: 903.18.16A
A22: DIOR | D22: 030.17.82L | E22: 067.18.250 | I22: 111.17.535 | K22: 127.17.F30 | L22: 129.13.355 | P22: 184.13.760 | R22: 204.52.79G | V22: 293.13.31W | X22: 997.00.082 | Y22: 302.17.01R | Z22: 30V.57.51R | AA22: 397.13.340 | AC22: 410.13.27Q | AF22: 437.14.739 | AG22: 471.14.035 | AL22: 47W.73.033 | AN22: 499.13.143 | AP22: 517.13.67A | AQ22: 533.13.285 | AX22: 5ME.44.59A | BG22: 657.14.536 | BK22: 71U.94.66J | BN22: 738.13.11G | BR22: 779.73.132 | BS22: 786.18.460 | BX22: 814.13.335 | CA22: 88F.23.30A | CD22: 903.18.16C
A23: DISNEY | D23: 030.18.885 | E23: 067.18.260 | I23: 111.17.540 | L23: 129.13.360 | P23: 184.13.02A | R23: 204.55.705 | V23: 293.13.32A | X23: 997.00.083 | Y23: 302.17.040 | Z23: 30V.57.541 | AA23: 397.13.423 | AC23: 410.13.27S | AF23: 437.14.755 | AG23: 471.14.040 | AL23: 47W.73.034 | AN23: 499.13.145 | AP23: 517.13.660 | AQ23: 533.13.290 | AX23: 5ME.44.59F | BG23: 657.23.140 | BK23: 71U.94.66U | BN23: 738.13.11J | BR23: 779.81.11N | BX23: 814.13.339 | CA23: 88F.23.315
A24: DIVERS ENF/PAR | D24: 030.18.88A | E24: 067.18.270 | I24: 111.18.655 | L24: 129.64.111 | P24: 184.13.02F | R24: 204.57.794 | V24: 293.13.32D | X24: 997.00.084 | Y24: 302.18.040 | Z24: 30V.53.660 | AA24: 397.13.425 | AC24: 410.13.27V | AF24: 437.13.790 | AG24: 471.13.515 | AL24: 47W.57.007 | AN24: 499.13.14A | AP24: 517.14.339 | AQ24: 533.13.295 | AX24: 5ME.67.008 | BG24: 657.18.603 | BK24: 71U.94.66X | BN24: 738.13.123 | BR24: 779.81.11K | BX24: 814.16.489 | CA24: 88F.23.320
A25: DOLCE & GABANA | D25: 030.78.807 | E25: 067.18.A40 | I25: 111.18.65A | L25: 129.64.112 | P25: 184.13.054 | R25: 204.58.454 | V25: 293.13.32H | X25: 997.00.086 | Z25: 30V.57.653 | AA25: 397.13.42A | AC25: 410.13.295 | AF25: 437.13.533 | AG25: 471.13.520 | AL25: 47W.58.030 | AN25: 499.13.23F | AQ25: 533.13.299 | AX25: 5ME.67.00A | BG25: 657.18.615 | BK25: 71U.94.67V | BN25: 738.13.125 | BR25: 779.81.11T | BX25: 814.16.572 | CA25: 88F.23.322
A26: ERBORIAN | D26: 030.78.815 | I26: 111.17.465 | L26: 129.64.113 | P26: 184.13.034 | R26: 204.52.252 | V26: 293.13.32J | X26: 997.00.088 | Z26: 30V.57.660 | AA26: 397.13.430 | AC26: 410.13.298 | AF26: 437.13.535 | AG26: 471.14.590 | AL26: 47W.58.032 | AN26: 499.13.253 | AQ26: 533.13.29P | AX26: 5ME.67.00C | BG26: 657.18.620 | BK26: 71U.94.84W | BN26: 738.13.128 | BR26: 779.81.11R | BX26: 814.13.A3A | CA26: 88F.23.420
A27: GAULTIER | D27: 030.17.146 | I27: 111.17.46A | L27: 129.16.335 | P27: 184.13.035 | R27: 204.52.254 | V27: 293.13.32K | X27: 997.00.089 | Z27: 30V.55.253 | AA27: 397.13.435 | AC27: 410.23.240 | AF27: 437.13.53A | AG27: 471.14.850 | AL27: 47W.58.033 | AN27: 499.13.255 | AQ27: 533.13.29R | AX27: 5ME.67.00Q | BK27: 71U.94.89F | BN27: 738.13.13A | BR27: 779.94.130 | BX27: 814.13.553 | CA27: 88F.23.43A
A28: GIORGIO | D28: 030.17.14A | I28: 111.18.344 | L28: 129.16.307 | P28: 184.13.036 | R28: 204.52.255 | V28: 293.13.33F | X28: 997.00.090 | AA28: 397.13.440 | AC28: 410.14.556 | AF28: 437.14.63A | AG28: 471.14.860 | AL28: 47W.66.005 | AN28: 499.13.26A | AQ28: 533.13.29V | AX28: 5ME.67.501 | BK28: 71U.94.89H | BN28: 738.13.13B | BR28: 779.94.145 | BX28: 814.13.555 | CA28: 88F.23.43D
A29: GIVENCHY | D29: 030.17.007 | I29: 111.18.347 | L29: 129.16.333 | P29: 184.13.040 | R29: 204.52.25A | V29: 293.13.33G | X29: 997.00.091 | AA29: 397.13.45B | AC29: 410.13.660 | AF29: 437.13.10A | AG29: 471.14.940 | AL29: 47W.67.010 | AN29: 499.13.28F | AQ29: 533.62.285 | BK29: 71U.94.89J | BN29: 738.13.13F | BR29: 779.62.219 | BX29: 814.13.559 | CA29: 88F.23.43J
A30: GRES | D30: 030.17.057 | I30: 111.18.355 | L30: 129.18.210 | P30: 184.13.041 | R30: 204.55.243 | V30: 293.13.33H | X30: 997.00.092 | AA30: 397.13.45C | AC30: 410.14.435 | AF30: 437.13.10B | AG30: 471.14.985 | AL30: 47W.90.002 | AN30: 499.13.28G | AQ30: 533.13.B35 | BK30: 71U.94.89U | BN30: 738.13.72C | BR30: 779.63.220 | BX30: 814.13.563 | CA30: 88F.23.43K
A31: GUCCI | D31: 030.18.057 | I31: 111.78.444 | P31: 184.13.042 | R31: 204.55.244 | V31: 293.14.355 | X31: 997.00.093 | AA31: 397.13.45D | AC31: 410.17.630 | AF31: 437.13.10C | AG31: 471.14.990 | AQ31: 533.13.C35 | BK31: 71U.94.89X | BN31: 738.13.72F | BR31: 779.74.205 | BX31: 814.13.565 | CA31: 88F.23.43L
A32: GUERLAIN | D32: 030.18.835 | I32: 111.13.265 | P32: 184.14.035 | R32: 204.57.243 | V32: 293.14.360 | X32: 997.00.094 | AA32: 397.17.35B | AC32: 410.17.636 | AF32: 437.13.10F | AG32: 471.23.740 | AQ32: 533.13.C37 | BK32: 71U.94.10A | BN32: 738.13.730 | BR32: 779.73.242 | BX32: 814.13.570 | CA32: 88F.23.23A
A33: HERMES | D33: 030.18.840 | I33: 111.13.730 | P33: 184.14.040 | R33: 204.57.405 | V33: 293.14.854 | X33: 997.00.095 | AA33: 397.17.35D | AC33: 410.17.640 | AF33: 437.13.132 | AG33: 471.23.760 | AQ33: 533.13.C3B | BK33: 71U.94.10C | BN33: 738.13.735 | BR33: 779.67.220 | BX33: 814.13.572 | CA33: 88F.23.23B
A34: HEROME | D34: 030.17.84J | I34: 111.13.735 | P34: 184.62.022 | R34: 204.57.57C | V34: 293.13.235 | X34: 997.00.096 | AA34: 397.17.35F | AC34: 410.17.646 | AF34: 437.13.133 | AG34: 471.23.785 | AQ34: 533.13.C3C | BK34: 71U.94.10F | BN34: 738.13.740 | BR34: 779.71.226 | BX34: 814.13.573 | CA34: 88F.23.23C
A35: HOLLISTER | D35: 030.17.84L | I35: 111.13.73A | P35: 184.74.010 | R35: 204.57.640 | V35: 293.13.240 | X35: 997.00.097 | AA35: 397.17.367 | AC35: 410.17.666 | AF35: 437.13.135 | AG35: 471.23.78A | AQ35: 533.13.C40 | BK35: 71U.94.110 | BN35: 738.18.253 | BR35: 779.81.21G | BX35: 814.13.575 | CA35: 88F.71.22A
A36: HUYGENS | D36: 030.17.84R | I36: 111.13.37J | P36: 184.13.135 | R36: 204.57.642 | V36: 293.14.C42 | X36: 997.00.098 | AA36: 397.17.372 | AC36: 410.17.670 | AF36: 437.13.140 | AG36: 471.14.C40 | AQ36: 533.13.66A | BK36: 71U.94.112 | BN36: 738.17.575 | BR36: 779.81.21L | BX36: 814.13.579
A37: IKKS | D37: 030.17.84S | I37: 111.13.37L | P37: 184.13.140 | R37: 204.57.645 | V37: 293.13.975 | X37: 997.00.099 | AA37: 397.17.377 | AC37: 410.17.730 | AF37: 437.13.1A3 | AG37: 471.17.005 | AQ37: 533.13.66B | BK37: 71U.94.114 | BN37: 738.17.580 | BR37: 779.94.245 | BX37: 814.13.57A
A38: INUWET | D38: 030.17.860 | P38: 184.13.42A | R38: 204.58.720 | V38: 293.13.979 | X38: 997.00.100 | AA38: 397.17.382 | AC38: 410.18.736 | AF38: 437.13.1A5 | AG38: 471.17.012 | AQ38: 533.13.685 | BK38: 71U.94.140 | BN38: 738.17.582 | BR38: 779.94.260 | BX38: 814.13.57B
A39: JACADI | D39: 030.17.870 | P39: 184.13.42B | R39: 204.52.556 | V39: 293.13.835 | X39: 997.00.101 | AA39: 397.18.357 | AC39: 410.18.860 | AF39: 437.13.1AA | AG39: 471.17.037 | AQ39: 533.13.691 | BK39: 71U.94.142 | BN39: 738.17.583 | BR39: 779.62.654 | BX39: 814.13.57C
A40: KENZO | P40: 184.13.42D | R40: 204.52.55A | V40: 293.13.840 | X40: 997.00.102 | AA40: 397.18.362 | AF40: 437.14.16A | AG40: 471.17.042 | AQ40: 533.14.645 | BK40: 71U.94.144 | BN40: 738.17.585 | BR40: 779.62.656 | BX40: 814.13.580
...
